BEGIN:VCALENDAR
VERSION:2.0
PRODID:-//PKOLS - Mount Douglas Conservancy - ECPv6.0.9//NONSGML v1.0//EN
CALSCALE:GREGORIAN
METHOD:PUBLISH
X-WR-CALNAME:PKOLS - Mount Douglas Conservancy
X-ORIGINAL-URL:https://pkols-mountdouglas.ca/wp
X-WR-CALDESC:Events for PKOLS - Mount Douglas Conservancy
REFRESH-INTERVAL;VALUE=DURATION:PT1H
X-Robots-Tag:noindex
X-PUBLISHED-TTL:PT1H
BEGIN:VTIMEZONE
TZID:America/Vancouver
BEGIN:DAYLIGHT
TZOFFSETFROM:-0800
TZOFFSETTO:-0700
TZNAME:PDT
DTSTART:20250309T100000
END:DAYLIGHT
BEGIN:STANDARD
TZOFFSETFROM:-0700
TZOFFSETTO:-0800
TZNAME:PST
DTSTART:20251102T090000
END:STANDARD
END:VTIMEZONE
BEGIN:VEVENT
DTSTART;TZID=America/Vancouver:20250118T100000
DTEND;TZID=America/Vancouver:20250118T110000
DTSTAMP:20260425T062514
CREATED:20250110T230551Z
LAST-MODIFIED:20250114T220043Z
UID:2034-1737194400-1737198000@pkols-mountdouglas.ca
SUMMARY:Salmon Carcass Transplant\, Sat Jan. 18\, 2025
DESCRIPTION:Join the PKOLS-Mount Douglas Conservancy to help restore the ecological balance of Douglas Creek by transplanting salmon carcasses back into the ecosystem. This hands-on activity supports the recovery of this important salmon habitat and provides an educational experience for all ages.  \n When: Saturday\, January 18\, 2025\, at 10:00 AM\n Where: Douglas Creek Bridge and Outdoor Classroom \n PKOLS (Mount Douglas Park) lies within the territories of the W̱SÁNEĆ (represented by the W̱JOȽEȽP\, BOḰEĆEN\, SȾÁUTW̱\, W̱SIḴEM and MÁLEXEȽ Nations) as well as the the lək ̓wəŋən peoples\, represented by the Songhees and Esquimalt Nations. The W̱SÁNEĆ and lək ̓wəŋən peoples have been here since time immemorial\, and their relationship with the land and water is long and rich. \nEnjoy speakers\, educational displays\, hot beverages\, and learn more about our efforts at the Conservancy’s membership table. \nThe event will happen rain or shine (the salmon don’t care). Please dress for the outdoors\, but leave your favourite winter coat at home — this can be slimy but rewarding experience! \nThis is a family-friendly event. Children are most welcome\, but for safety reasons\, each child must be accompanied/supervised by a responsible parent or guardian. \nWe can’t wait to see you there! \n—\nHow transplanting salmon carcasses helps bridge the gap between marine and terrestrial ecosystems: \nTransplanting salmon carcasses into Douglas Creek simulates the ecological process that would naturally occur in a healthy stream ecosystem when salmon return to their natal creeks to spawn en masse\, complete their life cycle and die\, leaving behind carcasses that are incredibly nutrient-rich. This natural process is how marine nutrients find their way back into terrestrial ecosystems\, through the breakdown of these returning salmon carcasses that have spent years feeding in the Pacific Ocean. \nAlthough Douglas Creek has seen returns of salmon each year since restoration work began\, including a record-breaking return in the Fall of 2024\, the numbers have not (yet!) reached their full potential\, so the annual Douglas Creek Salmon Carcass Transplant continues. The transplanted carcasses also attract scavengers like river otters\, racoons\, eagles\, and ravens\, who help distribute the nutrients deeper into PKOLS (Mount Douglas Park)\, enriching the ecosystem further. \nA remarkable study* published last year by researchers at Simon Fraser University looked at the impact that nutrients from salmon carcasses had on the growth of native coastal plants. The research showed that wildflowers (including Douglas’ aster\, Common red paintbrush\, Common yarrow\, and Silverweed) in areas where salmon carcasses had been dispersed grew larger leaves and bigger flowers\, directly benefiting the pollinators dependent on these plant species. \nSalmon (SĆÁÁNEW̱ in SENĆOŦEN / kʷáyəx̣ in lək̓ʷəŋiʔnəŋ) are sacred. Western science is beginning to recognize the insights of Traditional Ecological Knowledge that Coast Salish Nations have held for millennia. These findings underscore the vital connection between marine and terrestrial ecosystems\, reminding us that salmon are a keystone species working to bridge the gap between land and sea even after death. \n*[Dennert\, A.M.\, Elle\, E. and Reynolds\, J.D. (2023) ‘Experimental addition of marine-derived nutrients affects wildflower traits in a coastal meta-ecosystem’\, Royal Society Open Science\, 10(1). doi:10.1098/rsos.221008. ]
URL:https://pkols-mountdouglas.ca/wp/event/salmon-carcass-transplant-sat-jan-18-2025/
LOCATION:Douglas Creek Bridge\, FMV8+28R Saanich\, British Columbia
CATEGORIES:Community Event
END:VEVENT
END:VCALENDAR