BEGIN:VCALENDAR
VERSION:2.0
PRODID:-//PKOLS - Mount Douglas Conservancy - ECPv6.0.9//NONSGML v1.0//EN
CALSCALE:GREGORIAN
METHOD:PUBLISH
X-WR-CALNAME:PKOLS - Mount Douglas Conservancy
X-ORIGINAL-URL:https://pkols-mountdouglas.ca/wp
X-WR-CALDESC:Events for PKOLS - Mount Douglas Conservancy
REFRESH-INTERVAL;VALUE=DURATION:PT1H
X-Robots-Tag:noindex
X-PUBLISHED-TTL:PT1H
BEGIN:VTIMEZONE
TZID:America/Vancouver
BEGIN:DAYLIGHT
TZOFFSETFROM:-0800
TZOFFSETTO:-0700
TZNAME:PDT
DTSTART:20240310T100000
END:DAYLIGHT
BEGIN:STANDARD
TZOFFSETFROM:-0700
TZOFFSETTO:-0800
TZNAME:PST
DTSTART:20241103T090000
END:STANDARD
END:VTIMEZONE
BEGIN:VEVENT
DTSTART;TZID=America/Vancouver:20240316T100000
DTEND;TZID=America/Vancouver:20240316T120000
DTSTAMP:20260425T202740
CREATED:20240315T080254Z
LAST-MODIFIED:20240315T080255Z
UID:1722-1710583200-1710590400@pkols-mountdouglas.ca
SUMMARY:Salmon Carcass Transplant
DESCRIPTION:Please join us for our annual salmon carcass transplant.\nSaturday\, 16 March 2024\, at 10:00 am at the Outdoor Classroom / Douglas Creek Bridge. \nThe Howard English Hatchery at Goldstream has previously provided us with chum carcasses. This year\, they will be bringing Coho salmon. An explanation for the switch will be included in the presentations. The event proceeds rain or shine (the salmon don’t care!). Also\, with the warmer weather\, the carcasses should be nice and slimy\, so leave that lovely new winter coat at home! \n\nThis is a combination of educational and fun events with environmental benefits. It’s a family event\, and children are most welcome\, but for safety reasons\, each child must be accompanied/supervised by a responsible parent or guardian. \nSee you on Saturday!
URL:https://pkols-mountdouglas.ca/wp/event/salmon-carcass-transplant/
LOCATION:Douglas Creek Bridge\, FMV8+28R Saanich\, British Columbia
CATEGORIES:Community Event
END:VEVENT
END:VCALENDAR