BEGIN:VCALENDAR
VERSION:2.0
PRODID:-//PKOLS - Mount Douglas Conservancy - ECPv6.0.9//NONSGML v1.0//EN
CALSCALE:GREGORIAN
METHOD:PUBLISH
X-ORIGINAL-URL:https://pkols-mountdouglas.ca/wp
X-WR-CALDESC:Events for PKOLS - Mount Douglas Conservancy
REFRESH-INTERVAL;VALUE=DURATION:PT1H
X-Robots-Tag:noindex
X-PUBLISHED-TTL:PT1H
BEGIN:VTIMEZONE
TZID:America/Vancouver
BEGIN:DAYLIGHT
TZOFFSETFROM:-0800
TZOFFSETTO:-0700
TZNAME:PDT
DTSTART:20230312T100000
END:DAYLIGHT
BEGIN:STANDARD
TZOFFSETFROM:-0700
TZOFFSETTO:-0800
TZNAME:PST
DTSTART:20231105T090000
END:STANDARD
END:VTIMEZONE
BEGIN:VEVENT
DTSTART;TZID=America/Vancouver:20230114T100000
DTEND;TZID=America/Vancouver:20230114T120000
DTSTAMP:20260420T123840
CREATED:20230107T235105Z
LAST-MODIFIED:20230112T205254Z
UID:835-1673690400-1673697600@pkols-mountdouglas.ca
SUMMARY:Annual Douglas Creek Salmon Transplant
DESCRIPTION:You are invited to help us transplant 100+ dead salmon to help restore the ecological balance of Douglas Creek. \nMeet at the new bridge/outdoor classroom site on Saturday\, January 14\, 2023 beginning at 10:00am \nPark at either the Beach parking area and walk the Douglas Trail across Ash Rd to the Bridge\, or you can park on Edgemont to access the bridge. \nNote that each child must be accompanied by a responsible parent or guardian. \nWe very much hope you will be able to join us! \n  \n \n 
URL:https://pkols-mountdouglas.ca/wp/event/annual-douglas-creek-salmon-transplant/
LOCATION:Douglas Creek Bridge\, FMV8+28R Saanich\, British Columbia
CATEGORIES:Community Event,Restoration Work Party
ATTACH;FMTTYPE=image/jpeg:https://pkols-mountdouglas.ca/wp/wp-content/uploads/2023/01/DSC_9734.jpeg
END:VEVENT
END:VCALENDAR